BEGIN:VCALENDAR
VERSION:2.0
PRODID:-//Builders - ECPv6.15.20//NONSGML v1.0//EN
CALSCALE:GREGORIAN
METHOD:PUBLISH
X-ORIGINAL-URL:https://wpengine.com/builders
X-WR-CALDESC:Events for Builders
REFRESH-INTERVAL;VALUE=DURATION:PT1H
X-Robots-Tag:noindex
X-PUBLISHED-TTL:PT1H
BEGIN:VTIMEZONE
TZID:America/Chicago
BEGIN:DAYLIGHT
TZOFFSETFROM:-0600
TZOFFSETTO:-0500
TZNAME:CDT
DTSTART:20230312T080000
END:DAYLIGHT
BEGIN:STANDARD
TZOFFSETFROM:-0500
TZOFFSETTO:-0600
TZNAME:CST
DTSTART:20231105T070000
END:STANDARD
BEGIN:DAYLIGHT
TZOFFSETFROM:-0600
TZOFFSETTO:-0500
TZNAME:CDT
DTSTART:20240310T080000
END:DAYLIGHT
BEGIN:STANDARD
TZOFFSETFROM:-0500
TZOFFSETTO:-0600
TZNAME:CST
DTSTART:20241103T070000
END:STANDARD
BEGIN:DAYLIGHT
TZOFFSETFROM:-0600
TZOFFSETTO:-0500
TZNAME:CDT
DTSTART:20250309T080000
END:DAYLIGHT
BEGIN:STANDARD
TZOFFSETFROM:-0500
TZOFFSETTO:-0600
TZNAME:CST
DTSTART:20251102T070000
END:STANDARD
END:VTIMEZONE
BEGIN:VEVENT
DTSTART;TZID=America/Chicago:20240305T100000
DTEND;TZID=America/Chicago:20240305T110000
DTSTAMP:20260420T014212
CREATED:20240227T134352Z
LAST-MODIFIED:20240227T134353Z
UID:31506-1709632800-1709636400@wpengine.com
SUMMARY:All Things WPGraphQL for ACF
DESCRIPTION:Join Fran Agulto\, Grace Erixon\, and Jason Bahl as we delve into the latest updates and enhancements of the WPGraphQL for Advanced Custom Fields (ACF) plugin.
URL:https://wpengine.com/builders/event/all-things-wpgraphql-for-acf/
CATEGORIES:Headless
END:VEVENT
END:VCALENDAR