BEGIN:VCALENDAR
VERSION:2.0
PRODID:-//Builders - ECPv6.15.20//NONSGML v1.0//EN
CALSCALE:GREGORIAN
METHOD:PUBLISH
X-ORIGINAL-URL:https://wpengine.com/builders
X-WR-CALDESC:Events for Builders
REFRESH-INTERVAL;VALUE=DURATION:PT1H
X-Robots-Tag:noindex
X-PUBLISHED-TTL:PT1H
BEGIN:VTIMEZONE
TZID:America/Chicago
BEGIN:DAYLIGHT
TZOFFSETFROM:-0600
TZOFFSETTO:-0500
TZNAME:CDT
DTSTART:20230312T080000
END:DAYLIGHT
BEGIN:STANDARD
TZOFFSETFROM:-0500
TZOFFSETTO:-0600
TZNAME:CST
DTSTART:20231105T070000
END:STANDARD
BEGIN:DAYLIGHT
TZOFFSETFROM:-0600
TZOFFSETTO:-0500
TZNAME:CDT
DTSTART:20240310T080000
END:DAYLIGHT
BEGIN:STANDARD
TZOFFSETFROM:-0500
TZOFFSETTO:-0600
TZNAME:CST
DTSTART:20241103T070000
END:STANDARD
BEGIN:DAYLIGHT
TZOFFSETFROM:-0600
TZOFFSETTO:-0500
TZNAME:CDT
DTSTART:20250309T080000
END:DAYLIGHT
BEGIN:STANDARD
TZOFFSETFROM:-0500
TZOFFSETTO:-0600
TZNAME:CST
DTSTART:20251102T070000
END:STANDARD
END:VTIMEZONE
BEGIN:VEVENT
DTSTART;TZID=America/Chicago:20240405T100000
DTEND;TZID=America/Chicago:20240405T110000
DTSTAMP:20260419T141144
CREATED:20240222T195857Z
LAST-MODIFIED:20240403T121831Z
UID:31500-1712311200-1712314800@wpengine.com
SUMMARY:Build Mode Live
DESCRIPTION:Live conversations with the community about modern WordPress\, the future of the Site Editor\, and how it all impacts site builders. Co-hosted by Sam Brockway & Brian Gardner.
URL:https://wpengine.com/builders/event/build-mode-live-34/
CATEGORIES:WordPress
END:VEVENT
BEGIN:VEVENT
DTSTART;TZID=America/Chicago:20240409T090000
DTEND;TZID=America/Chicago:20240409T100000
DTSTAMP:20260419T141144
CREATED:20240402T153807Z
LAST-MODIFIED:20240402T153856Z
UID:31526-1712653200-1712656800@wpengine.com
SUMMARY:Developer Hours: Building custom blocks with the Interactivity API
DESCRIPTION:The Interactivity API was recently released in WordPress 6.5. Now is the time to experiment with the API and incorporate interactions into your custom blocks\, but where should you start?Often\, the best way to learn is through real-world examples. In this Developer Hours session\, Damon Cook from WP Engine will demonstrate how he built a form submission block that leverages the API. This example will teach you how to kickstart a custom interactive block using the Create Block package\, use directives to assign critical attributes to your HTML markup\, create the store\, and hook up the client-side JavaScript.Don’t worry if some of these terms are foreign to you. We’ll provide a comprehensive overview of Interactivity API along the way. Following the presentation\, there will also be a Q&A session\, so bring your questions!Meetup InformationWhere: Zoom (Link will be visible after RSVP)Level: AdvancedLanguage: English with live Zoom transcription
URL:https://wpengine.com/builders/event/developer-hours-building-custom-blocks-with-the-interactivity-api/
CATEGORIES:WordPress
END:VEVENT
BEGIN:VEVENT
DTSTART;TZID=America/Chicago:20240412T100000
DTEND;TZID=America/Chicago:20240412T110000
DTSTAMP:20260419T141144
CREATED:20240403T121913Z
LAST-MODIFIED:20240403T121914Z
UID:31528-1712916000-1712919600@wpengine.com
SUMMARY:Build Mode Live
DESCRIPTION:Live conversations with the community about modern WordPress\, the future of the Site Editor\, and how it all impacts site builders. Co-hosted by Sam Brockway & Brian Gardner.
URL:https://wpengine.com/builders/event/build-mode-live-35/
CATEGORIES:WordPress
END:VEVENT
BEGIN:VEVENT
DTSTART;TZID=America/Chicago:20240419T100000
DTEND;TZID=America/Chicago:20240419T110000
DTSTAMP:20260419T141144
CREATED:20240403T121951Z
LAST-MODIFIED:20240403T121951Z
UID:31529-1713520800-1713524400@wpengine.com
SUMMARY:Build Mode Live
DESCRIPTION:Live conversations with the community about modern WordPress\, the future of the Site Editor\, and how it all impacts site builders. Co-hosted by Sam Brockway & Brian Gardner.
URL:https://wpengine.com/builders/event/build-mode-live-36/
CATEGORIES:WordPress
END:VEVENT
BEGIN:VEVENT
DTSTART;TZID=America/Chicago:20240425T120000
DTEND;TZID=America/Chicago:20240425T130000
DTSTAMP:20260419T141144
CREATED:20240404T135505Z
LAST-MODIFIED:20240404T140001Z
UID:31531-1714046400-1714050000@wpengine.com
SUMMARY:Virtual Coworking
DESCRIPTION:Join Sam Brockway & Charles Oh for a one-hour community session. Connect with other WordPress professionals in a quiet\, chill atmosphere. No mics\, no cameras.
URL:https://wpengine.com/builders/event/virtual-coworking-2/
CATEGORIES:Community
END:VEVENT
BEGIN:VEVENT
DTSTART;TZID=America/Chicago:20240425T120000
DTEND;TZID=America/Chicago:20240425T130000
DTSTAMP:20260419T141144
CREATED:20240426T125920Z
LAST-MODIFIED:20240426T125921Z
UID:31558-1714046400-1714050000@wpengine.com
SUMMARY:WPGraphQL Office Hours
DESCRIPTION:Come with questions about WPGraphQL\, be a part of the upcoming roadmap and see sneak peeks of what’s to come for this powerful tool with Jason Bahl and Fran Agulto.
URL:https://wpengine.com/builders/event/wpgraphql-office-hours/
CATEGORIES:Headless
END:VEVENT
BEGIN:VEVENT
DTSTART;TZID=America/Chicago:20240426T090000
DTEND;TZID=America/Chicago:20240426T100000
DTSTAMP:20260419T141144
CREATED:20240426T130013Z
LAST-MODIFIED:20240426T130014Z
UID:31559-1714122000-1714125600@wpengine.com
SUMMARY:ACF Chat Friday
DESCRIPTION:See how to use the WordPress Block Bindings API with ACF 6.2.8!
URL:https://wpengine.com/builders/event/acf-chat-friday/
CATEGORIES:WordPress
END:VEVENT
BEGIN:VEVENT
DTSTART;TZID=America/Chicago:20240426T100000
DTEND;TZID=America/Chicago:20240426T110000
DTSTAMP:20260419T141144
CREATED:20240403T122021Z
LAST-MODIFIED:20240403T122029Z
UID:31530-1714125600-1714129200@wpengine.com
SUMMARY:Build Mode Live
DESCRIPTION:Live conversations with the community about modern WordPress\, the future of the Site Editor\, and how it all impacts site builders. Co-hosted by Sam Brockway & Brian Gardner.
URL:https://wpengine.com/builders/event/build-mode-live-37/
CATEGORIES:WordPress
END:VEVENT
END:VCALENDAR