BEGIN:VCALENDAR
VERSION:2.0
PRODID:-//Builders - ECPv6.15.20//NONSGML v1.0//EN
CALSCALE:GREGORIAN
METHOD:PUBLISH
X-ORIGINAL-URL:https://wpengine.com/builders
X-WR-CALDESC:Events for Builders
REFRESH-INTERVAL;VALUE=DURATION:PT1H
X-Robots-Tag:noindex
X-PUBLISHED-TTL:PT1H
BEGIN:VTIMEZONE
TZID:America/Chicago
BEGIN:DAYLIGHT
TZOFFSETFROM:-0600
TZOFFSETTO:-0500
TZNAME:CDT
DTSTART:20240310T080000
END:DAYLIGHT
BEGIN:STANDARD
TZOFFSETFROM:-0500
TZOFFSETTO:-0600
TZNAME:CST
DTSTART:20241103T070000
END:STANDARD
BEGIN:DAYLIGHT
TZOFFSETFROM:-0600
TZOFFSETTO:-0500
TZNAME:CDT
DTSTART:20250309T080000
END:DAYLIGHT
BEGIN:STANDARD
TZOFFSETFROM:-0500
TZOFFSETTO:-0600
TZNAME:CST
DTSTART:20251102T070000
END:STANDARD
BEGIN:DAYLIGHT
TZOFFSETFROM:-0600
TZOFFSETTO:-0500
TZNAME:CDT
DTSTART:20260308T080000
END:DAYLIGHT
BEGIN:STANDARD
TZOFFSETFROM:-0500
TZOFFSETTO:-0600
TZNAME:CST
DTSTART:20261101T070000
END:STANDARD
END:VTIMEZONE
BEGIN:VTIMEZONE
TZID:America/Los_Angeles
BEGIN:DAYLIGHT
TZOFFSETFROM:-0800
TZOFFSETTO:-0700
TZNAME:PDT
DTSTART:20240310T100000
END:DAYLIGHT
BEGIN:STANDARD
TZOFFSETFROM:-0700
TZOFFSETTO:-0800
TZNAME:PST
DTSTART:20241103T090000
END:STANDARD
BEGIN:DAYLIGHT
TZOFFSETFROM:-0800
TZOFFSETTO:-0700
TZNAME:PDT
DTSTART:20250309T100000
END:DAYLIGHT
BEGIN:STANDARD
TZOFFSETFROM:-0700
TZOFFSETTO:-0800
TZNAME:PST
DTSTART:20251102T090000
END:STANDARD
BEGIN:DAYLIGHT
TZOFFSETFROM:-0800
TZOFFSETTO:-0700
TZNAME:PDT
DTSTART:20260308T100000
END:DAYLIGHT
BEGIN:STANDARD
TZOFFSETFROM:-0700
TZOFFSETTO:-0800
TZNAME:PST
DTSTART:20261101T090000
END:STANDARD
END:VTIMEZONE
BEGIN:VEVENT
DTSTART;TZID=America/Chicago:20250404T100000
DTEND;TZID=America/Chicago:20250404T110000
DTSTAMP:20260419T235904
CREATED:20250328T172230Z
LAST-MODIFIED:20250328T172231Z
UID:31824-1743760800-1743764400@wpengine.com
SUMMARY:Build Mode
DESCRIPTION:Build Mode is a weekly interactive call hosted by Brian Gardner and Charles Oh. Join us as we dive into the future of WordPress—where business\, innovation\, and community intersect. From emerging trends to real-world challenges\, we explore what’s next—and how we can shape it together.
URL:https://wpengine.com/builders/event/build-mode-24/
CATEGORIES:WordPress
END:VEVENT
BEGIN:VEVENT
DTSTART;TZID=America/Los_Angeles:20250407T083000
DTEND;TZID=America/Los_Angeles:20250407T090000
DTSTAMP:20260419T235904
CREATED:20250319T003228Z
LAST-MODIFIED:20250319T003228Z
UID:31816-1744014600-1744016400@wpengine.com
SUMMARY:Headless WP Community Meeting
DESCRIPTION:The Headless OSS team at WP Engine will hold bi-weekly meetings to share their work\, collaborate\, and engage with the broader community. Join us to hear what’s happening\, provide feedback\, and share your work!
URL:https://wpengine.com/builders/event/headless-wp-community-meeting-2/
CATEGORIES:Community,Headless
END:VEVENT
BEGIN:VEVENT
DTSTART;TZID=America/Chicago:20250411T100000
DTEND;TZID=America/Chicago:20250411T110000
DTSTAMP:20260419T235904
CREATED:20250328T172436Z
LAST-MODIFIED:20250328T172436Z
UID:31825-1744365600-1744369200@wpengine.com
SUMMARY:Build Mode
DESCRIPTION:Build Mode is a weekly interactive call hosted by Brian Gardner and Charles Oh. Join us as we dive into the future of WordPress—where business\, innovation\, and community intersect. From emerging trends to real-world challenges\, we explore what’s next—and how we can shape it together.
URL:https://wpengine.com/builders/event/build-mode-25/
CATEGORIES:WordPress
END:VEVENT
BEGIN:VEVENT
DTSTART;TZID=America/Chicago:20250418T100000
DTEND;TZID=America/Chicago:20250418T110000
DTSTAMP:20260419T235904
CREATED:20250328T172537Z
LAST-MODIFIED:20250328T172538Z
UID:31826-1744970400-1744974000@wpengine.com
SUMMARY:Build Mode
DESCRIPTION:Build Mode is a weekly interactive call hosted by Brian Gardner and Charles Oh. Join us as we dive into the future of WordPress—where business\, innovation\, and community intersect. From emerging trends to real-world challenges\, we explore what’s next—and how we can shape it together.
URL:https://wpengine.com/builders/event/build-mode-26/
CATEGORIES:WordPress
END:VEVENT
BEGIN:VEVENT
DTSTART;TZID=America/Los_Angeles:20250421T083000
DTEND;TZID=America/Los_Angeles:20250421T090000
DTSTAMP:20260419T235904
CREATED:20250319T003453Z
LAST-MODIFIED:20250319T003554Z
UID:31817-1745224200-1745226000@wpengine.com
SUMMARY:Headless WP Community Meeting
DESCRIPTION:The Headless OSS team at WP Engine will hold bi-weekly meetings to share their work\, collaborate\, and engage with the broader community. Join us to hear what’s happening\, provide feedback\, and share your work!
URL:https://wpengine.com/builders/event/headless-wp-community-meeting-3/
CATEGORIES:Community,Headless
END:VEVENT
END:VCALENDAR